BEGIN:VCALENDAR
VERSION:2.0
PRODID:-//Bournevale Stables - ECPv6.15.20//NONSGML v1.0//EN
CALSCALE:GREGORIAN
METHOD:PUBLISH
X-ORIGINAL-URL:https://www.bournevalestables.co.uk
X-WR-CALDESC:Events for Bournevale Stables
REFRESH-INTERVAL;VALUE=DURATION:PT1H
X-Robots-Tag:noindex
X-PUBLISHED-TTL:PT1H
BEGIN:VTIMEZONE
TZID:UTC
BEGIN:STANDARD
TZOFFSETFROM:+0000
TZOFFSETTO:+0000
TZNAME:UTC
DTSTART:20230101T000000
END:STANDARD
END:VTIMEZONE
BEGIN:VEVENT
DTSTART;TZID=UTC:20250220T100000
DTEND;TZID=UTC:20250220T130000
DTSTAMP:20260420T114641
CREATED:20250127T132320Z
LAST-MODIFIED:20250127T132320Z
UID:830-1740045600-1740056400@www.bournevalestables.co.uk
SUMMARY:Mini Pony Club Morning - £50
DESCRIPTION:Open to current Pony Club Members. Mornings will include working towards mini achievement badges or progressive tests. Suitable for children on 45-minute classes on and off the lead rein.
URL:https://www.bournevalestables.co.uk/event/mini-pony-club-morning-50/
LOCATION:Bournevale Stables\, Little Hardwick Road\, Aldridge\, Walsall\, Birmingham\, WS9 0SQ\, United Kingdom
CATEGORIES:Pony Club
END:VEVENT
BEGIN:VEVENT
DTSTART;TZID=UTC:20250219T100000
DTEND;TZID=UTC:20250219T120000
DTSTAMP:20260420T114641
CREATED:20250127T131827Z
LAST-MODIFIED:20250127T131827Z
UID:827-1739959200-1739966400@www.bournevalestables.co.uk
SUMMARY:Pony Club Taster Session - £25
DESCRIPTION:Perfect for new riders to have a go at Pony Club activities before becoming members.
URL:https://www.bournevalestables.co.uk/event/pony-club-taster-session-25/
LOCATION:Bournevale Stables\, Little Hardwick Road\, Aldridge\, Walsall\, Birmingham\, WS9 0SQ\, United Kingdom
CATEGORIES:Children’s Holiday Activities
END:VEVENT
BEGIN:VEVENT
DTSTART;TZID=UTC:20250207T100000
DTEND;TZID=UTC:20250207T123000
DTSTAMP:20260420T114641
CREATED:20250102T153643Z
LAST-MODIFIED:20250102T153742Z
UID:781-1738922400-1738931400@www.bournevalestables.co.uk
SUMMARY:Equine Experience Morning - £100
DESCRIPTION:Meet the Horses\nYard Tour\nGrooming\nTacking Up\nFeeding\nRiding (for those that want to)
URL:https://www.bournevalestables.co.uk/event/equine-experience-morning/
LOCATION:Bournevale Stables\, Little Hardwick Road\, Aldridge\, Walsall\, Birmingham\, WS9 0SQ\, United Kingdom
CATEGORIES:Experience Days
END:VEVENT
BEGIN:VEVENT
DTSTART;TZID=UTC:20250202T103000
DTEND;TZID=UTC:20250202T120000
DTSTAMP:20260420T114641
CREATED:20250102T142501Z
LAST-MODIFIED:20250102T145358Z
UID:755-1738492200-1738497600@www.bournevalestables.co.uk
SUMMARY:BHS Stage 1 Care Training and Ride Safe - £400
DESCRIPTION:Course runs for 10 consecutive weeks starting from Sunday 2nd February 2025. \nThe final assessment date is Thursday 10th April – to be booked separately with BHS Education
URL:https://www.bournevalestables.co.uk/event/bhs-stage-1-care-training-and-ride-safe-400/
LOCATION:Birmingham
CATEGORIES:BHS Training
END:VEVENT
BEGIN:VEVENT
DTSTART;TZID=UTC:20250131T110000
DTEND;TZID=UTC:20250131T123000
DTSTAMP:20260420T114641
CREATED:20250102T152040Z
LAST-MODIFIED:20250102T152538Z
UID:778-1738321200-1738326600@www.bournevalestables.co.uk
SUMMARY:BHS Challenge Awards - £200
DESCRIPTION:The Challenge Award mornings take place on every other Friday beginning on Friday 31st January. \nPrice:  £200 for a block of five sessions OR £45 per session if booked individually.
URL:https://www.bournevalestables.co.uk/event/bhs-challenge-awards-200/
LOCATION:Birmingham
CATEGORIES:BHS Training
END:VEVENT
BEGIN:VEVENT
DTSTART;VALUE=DATE:20250103
DTEND;VALUE=DATE:20250104
DTSTAMP:20260420T114641
CREATED:20241218T132656Z
LAST-MODIFIED:20241218T150528Z
UID:682-1735862400-1735948799@www.bournevalestables.co.uk
SUMMARY:Own a Pony Day - £95
DESCRIPTION:
URL:https://www.bournevalestables.co.uk/event/own-a-pony-day/
LOCATION:Bournevale Stables\, Little Hardwick Road\, Aldridge\, Walsall\, Birmingham\, WS9 0SQ\, United Kingdom
CATEGORIES:Children’s Holiday Activities
END:VEVENT
BEGIN:VEVENT
DTSTART;VALUE=DATE:20250102
DTEND;VALUE=DATE:20250103
DTSTAMP:20260420T114641
CREATED:20241218T132604Z
LAST-MODIFIED:20241218T150140Z
UID:680-1735776000-1735862399@www.bournevalestables.co.uk
SUMMARY:Lead Rein Morning - £50
DESCRIPTION:
URL:https://www.bournevalestables.co.uk/event/lead-rein-morning/
LOCATION:Bournevale Stables\, Little Hardwick Road\, Aldridge\, Walsall\, Birmingham\, WS9 0SQ\, United Kingdom
CATEGORIES:Children’s Holiday Activities
END:VEVENT
BEGIN:VEVENT
DTSTART;TZID=UTC:20250101T073000
DTEND;TZID=UTC:20250101T160000
DTSTAMP:20260420T114641
CREATED:20241203T090701Z
LAST-MODIFIED:20241217T102331Z
UID:590-1735716600-1735747200@www.bournevalestables.co.uk
SUMMARY:Adult Hangover Buster Day
DESCRIPTION:Shake off your New Year hangover and recharge outdoors with the Horses!
URL:https://www.bournevalestables.co.uk/event/hangover-buster/
LOCATION:Bournevale Stables\, Little Hardwick Road\, Aldridge\, Walsall\, Birmingham\, WS9 0SQ\, United Kingdom
CATEGORIES:Adult Holiday Activities
ATTACH;FMTTYPE=image/jpeg:https://www.bournevalestables.co.uk/wp-content/uploads/2024/12/Christmas-Holiday-Activities-Adult-Day-Website-Event-Thumbnail.jpg
END:VEVENT
BEGIN:VEVENT
DTSTART;TZID=UTC:20241229T033000
DTEND;TZID=UTC:20241229T170000
DTSTAMP:20260420T114641
CREATED:20241218T183207Z
LAST-MODIFIED:20241218T183207Z
UID:713-1735443000-1735491600@www.bournevalestables.co.uk
SUMMARY:Flat Work/Dressage Clinic - £59
DESCRIPTION:
URL:https://www.bournevalestables.co.uk/event/flat-work-dressage-clinic-59/
LOCATION:Bournevale Stables\, Little Hardwick Road\, Aldridge\, Walsall\, Birmingham\, WS9 0SQ\, United Kingdom
END:VEVENT
BEGIN:VEVENT
DTSTART;VALUE=DATE:20241227
DTEND;VALUE=DATE:20241228
DTSTAMP:20260420T114641
CREATED:20241218T131918Z
LAST-MODIFIED:20241218T150356Z
UID:678-1735257600-1735343999@www.bournevalestables.co.uk
SUMMARY:Children's Fun Day - £90
DESCRIPTION:
URL:https://www.bournevalestables.co.uk/event/childrens-fun-day/
LOCATION:Bournevale Stables\, Little Hardwick Road\, Aldridge\, Walsall\, Birmingham\, WS9 0SQ\, United Kingdom
CATEGORIES:Children’s Holiday Activities
END:VEVENT
BEGIN:VEVENT
DTSTART;TZID=UTC:20241224T100000
DTEND;TZID=UTC:20241224T120000
DTSTAMP:20260420T114641
CREATED:20241203T093947Z
LAST-MODIFIED:20241218T141556Z
UID:597-1735034400-1735041600@www.bournevalestables.co.uk
SUMMARY:Christmas Eve Fun and Games - £45
DESCRIPTION:Our popular Christmas Eve games morning!\n\n\n\n Mounted Games\n Christmas Jumpers a MUST!\n Fun\, games and activities\n\n\n\nPlease Note: Riders must normally attend a 1-hour class to attend.\n\n\n\n\nDeposit taken to secure your place. Balance to be paid a week before. \nTo Book: Please call the office on: 0121 353 7174
URL:https://www.bournevalestables.co.uk/event/christmas_eve/
LOCATION:Bournevale Stables\, Little Hardwick Road\, Aldridge\, Walsall\, Birmingham\, WS9 0SQ\, United Kingdom
CATEGORIES:Children’s Holiday Activities
ATTACH;FMTTYPE=image/jpeg:https://www.bournevalestables.co.uk/wp-content/uploads/2024/12/Christmas-Eve-Fun-and-Games-Kids.jpg
END:VEVENT
BEGIN:VEVENT
DTSTART;TZID=UTC:20241222T153000
DTEND;TZID=UTC:20241222T170000
DTSTAMP:20260420T114641
CREATED:20241218T182849Z
LAST-MODIFIED:20241218T195721Z
UID:710-1734881400-1734886800@www.bournevalestables.co.uk
SUMMARY:Christmas Fun Clinic - £59
DESCRIPTION:
URL:https://www.bournevalestables.co.uk/event/christmas-fun-clinic-59/
LOCATION:Bournevale Stables\, Little Hardwick Road\, Aldridge\, Walsall\, Birmingham\, WS9 0SQ\, United Kingdom
CATEGORIES:Clinics
END:VEVENT
END:VCALENDAR